BEGIN:VCALENDAR
VERSION:2.0
PRODID:-//Sheltering Wings - ECPv6.15.3//NONSGML v1.0//EN
CALSCALE:GREGORIAN
METHOD:PUBLISH
X-ORIGINAL-URL:https://shelteringwings.org
X-WR-CALDESC:Events for Sheltering Wings
REFRESH-INTERVAL;VALUE=DURATION:PT1H
X-Robots-Tag:noindex
X-PUBLISHED-TTL:PT1H
BEGIN:VTIMEZONE
TZID:America/Indiana/Indianapolis
BEGIN:DAYLIGHT
TZOFFSETFROM:-0500
TZOFFSETTO:-0400
TZNAME:EDT
DTSTART:20260308T070000
END:DAYLIGHT
BEGIN:STANDARD
TZOFFSETFROM:-0400
TZOFFSETTO:-0500
TZNAME:EST
DTSTART:20261101T060000
END:STANDARD
END:VTIMEZONE
BEGIN:VEVENT
DTSTART;TZID=America/Indiana/Indianapolis:20260418T173000
DTEND;TZID=America/Indiana/Indianapolis:20260418T220000
DTSTAMP:20260423T191421
CREATED:20260211T172422Z
LAST-MODIFIED:20260211T172818Z
UID:30360-1776533400-1776549600@shelteringwings.org
SUMMARY:2026 Premier Event
DESCRIPTION:2026 Premier Event\nBigger Than Us\nSaturday\, April 18\, 2026 at Hendricks Live! in Plainfield\nOur work is bigger than any single person\, but every person matters. Together\, we can build healing that starts with one and ripples outward – family to family\, generation to generation. \nJoin us for one of Central Indiana’s most anticipated events\, featuring My Yellow Rickshaw – Indy’s self-proclaimed #1 pop\, rock\, bluegrass and R&B cover band. \nPresented by: \nWorld Communion Cups & Cunningham Restaurant Group
URL:https://shelteringwings.org/event/2026-premier-event/
LOCATION:Hendricks Live!\, 200 W Main St.\, Plainfield\, IN\, 46168\, United States
CATEGORIES:Special Events
ATTACH;FMTTYPE=image/png:https://shelteringwings.org/wp-content/uploads/2026/01/Premier-Event-Sheltering-Wings-e1770830885780.png
END:VEVENT
END:VCALENDAR