BEGIN:VCALENDAR
VERSION:2.0
PRODID:-//Sheltering Wings - ECPv6.15.3//NONSGML v1.0//EN
CALSCALE:GREGORIAN
METHOD:PUBLISH
X-ORIGINAL-URL:https://shelteringwings.org
X-WR-CALDESC:Events for Sheltering Wings
REFRESH-INTERVAL;VALUE=DURATION:PT1H
X-Robots-Tag:noindex
X-PUBLISHED-TTL:PT1H
BEGIN:VTIMEZONE
TZID:America/Indiana/Indianapolis
BEGIN:DAYLIGHT
TZOFFSETFROM:-0500
TZOFFSETTO:-0400
TZNAME:EDT
DTSTART:20250309T070000
END:DAYLIGHT
BEGIN:STANDARD
TZOFFSETFROM:-0400
TZOFFSETTO:-0500
TZNAME:EST
DTSTART:20251102T060000
END:STANDARD
END:VTIMEZONE
BEGIN:VEVENT
DTSTART;TZID=America/Indiana/Indianapolis:20250311T183000
DTEND;TZID=America/Indiana/Indianapolis:20250311T200000
DTSTAMP:20260424T113542
CREATED:20190426T173602Z
LAST-MODIFIED:20250130T215228Z
UID:22756-1741717800-1741723200@shelteringwings.org
SUMMARY:Teens That Talk | Youth Council
DESCRIPTION:Interested in being a Part of the Youth Council? \nSheltering Wings Youth Council\, Teens That Talk is a group of students from area schools in Hendricks County that are working to raise awareness in their schools\, communities and social circles about Healthy Relationships and Teen Dating Violence\, through education\, fundraisers\, social media campaigns and volunteering. \nWe meet the 2nd Tuesday of every month and work on upcoming events\, do volunteer projects\, address issues teens face in relationships as well as a variety of other things\, food is provided at the meeting and they are held at the Shelter from 6:30-8:00pm. We do all of our communicating through the remind app. Join the Remind group by texting @tttyc to 81010 \nIf you are interested in being a part of the Teens That Talk Youth Council or have questions please contact Melissa Echerd at 317-386-5061 or mecherd@shelteringwings.org
URL:https://shelteringwings.org/event/teens-that-talk-youth-council-2-2-2025-03-11/
LOCATION:Sheltering Wings\, 1251 Sycamore Ln.\, Danville\, IN\, 46122\, United States
CATEGORIES:Youth Council
ATTACH;FMTTYPE=image/png:https://shelteringwings.org/wp-content/uploads/2025/01/Teens-That-Talk-Updated-Logo-Small-2-e1738008119486.png
ORGANIZER;CN="Melissa Echerd":MAILTO:mecherd@shelteringwings.org
END:VEVENT
END:VCALENDAR